﻿BEGIN:VCALENDAR
VERSION:2.0
PRODID:-//Weinort Osann-Monzel an der Mosel - ECPv4.6.11.1//NONSGML v1.0//EN
CALSCALE:GREGORIAN
METHOD:PUBLISH
X-WR-CALNAME:Weinort Osann-Monzel an der Mosel
X-ORIGINAL-URL:https://osann-monzel.de
X-WR-CALDESC:Veranstaltungen für Weinort Osann-Monzel an der Mosel
BEGIN:VEVENT
DTSTART;TZID=Europe/Berlin:20260212T141100
DTEND;TZID=Europe/Berlin:20260212T180000
DTSTAMP:20260422T164806
CREATED:20260105T093935Z
LAST-MODIFIED:20260105T093935Z
UID:7372-1770905460-1770919200@osann-monzel.de
SUMMARY:Weiberfastnacht
DESCRIPTION:
URL:https://osann-monzel.de/kalender/weiberfastnacht-2/
CATEGORIES:Gäste,Osann-Monzel
END:VEVENT
END:VCALENDAR