﻿BEGIN:VCALENDAR
VERSION:2.0
PRODID:-//Weinort Osann-Monzel an der Mosel - ECPv4.6.11.1//NONSGML v1.0//EN
CALSCALE:GREGORIAN
METHOD:PUBLISH
X-WR-CALNAME:Weinort Osann-Monzel an der Mosel
X-ORIGINAL-URL:https://osann-monzel.de
X-WR-CALDESC:Veranstaltungen für Weinort Osann-Monzel an der Mosel
BEGIN:VEVENT
DTSTART;TZID=Europe/Berlin:20251104T143000
DTEND;TZID=Europe/Berlin:20251104T180000
DTSTAMP:20260422T221913
CREATED:20250318T104151Z
LAST-MODIFIED:20250318T104151Z
UID:7129-1762266600-1762279200@osann-monzel.de
SUMMARY:Usener Kaffeeklatsch
DESCRIPTION:
URL:https://osann-monzel.de/kalender/usener-kaffeeklatsch-6/
LOCATION:Weinbergstraße 1\, Osann-Monzel
CATEGORIES:Osann-Monzel
END:VEVENT
END:VCALENDAR