﻿BEGIN:VCALENDAR
VERSION:2.0
PRODID:-//Weinort Osann-Monzel an der Mosel - ECPv4.6.11.1//NONSGML v1.0//EN
CALSCALE:GREGORIAN
METHOD:PUBLISH
X-WR-CALNAME:Weinort Osann-Monzel an der Mosel
X-ORIGINAL-URL:https://osann-monzel.de
X-WR-CALDESC:Veranstaltungen für Weinort Osann-Monzel an der Mosel
BEGIN:VEVENT
DTSTART;TZID=Europe/Berlin:20240910T150000
DTEND;TZID=Europe/Berlin:20240910T173000
DTSTAMP:20260422T114540
CREATED:20240717T151606Z
LAST-MODIFIED:20240717T151620Z
UID:6813-1725980400-1725989400@osann-monzel.de
SUMMARY:Usener Kaffee Klatsch
DESCRIPTION:
URL:https://osann-monzel.de/kalender/usener-kaffee-klatsch/
LOCATION:Weinbergstraße 1\, Osann-Monzel
CATEGORIES:Gäste,Osann-Monzel
END:VEVENT
END:VCALENDAR