﻿BEGIN:VCALENDAR
VERSION:2.0
PRODID:-//Weinort Osann-Monzel an der Mosel - ECPv4.6.11.1//NONSGML v1.0//EN
CALSCALE:GREGORIAN
METHOD:PUBLISH
X-WR-CALNAME:Weinort Osann-Monzel an der Mosel
X-ORIGINAL-URL:https://osann-monzel.de
X-WR-CALDESC:Veranstaltungen für Weinort Osann-Monzel an der Mosel
BEGIN:VEVENT
DTSTART;TZID=Europe/Berlin:20260505T143000
DTEND;TZID=Europe/Berlin:20260505T170000
DTSTAMP:20260422T150917
CREATED:20260106T101626Z
LAST-MODIFIED:20260106T101626Z
UID:7417-1777991400-1778000400@osann-monzel.de
SUMMARY:Usener Kaffee Klatsch
DESCRIPTION:
URL:https://osann-monzel.de/kalender/usener-kaffee-klatsch-9/
LOCATION:Weinbergstraße 1\, Osann-Monzel
CATEGORIES:Osann-Monzel
END:VEVENT
END:VCALENDAR