﻿BEGIN:VCALENDAR
VERSION:2.0
PRODID:-//Weinort Osann-Monzel an der Mosel - ECPv4.6.11.1//NONSGML v1.0//EN
CALSCALE:GREGORIAN
METHOD:PUBLISH
X-WR-CALNAME:Weinort Osann-Monzel an der Mosel
X-ORIGINAL-URL:https://osann-monzel.de
X-WR-CALDESC:Veranstaltungen für Weinort Osann-Monzel an der Mosel
BEGIN:VEVENT
DTSTART;TZID=Europe/Berlin:20260310T150000
DTEND;TZID=Europe/Berlin:20260310T173000
DTSTAMP:20260422T151007
CREATED:20260106T100508Z
LAST-MODIFIED:20260106T102110Z
UID:7405-1773154800-1773163800@osann-monzel.de
SUMMARY:Usener Kaffee Klatsch
DESCRIPTION:
URL:https://osann-monzel.de/kalender/usener-kaffee-klatsch-7/
LOCATION:Weinbergstraße 1\, Osann-Monzel
CATEGORIES:Osann-Monzel
END:VEVENT
END:VCALENDAR