﻿BEGIN:VCALENDAR
VERSION:2.0
PRODID:-//Weinort Osann-Monzel an der Mosel - ECPv4.6.11.1//NONSGML v1.0//EN
CALSCALE:GREGORIAN
METHOD:PUBLISH
X-WR-CALNAME:Weinort Osann-Monzel an der Mosel
X-ORIGINAL-URL:https://osann-monzel.de
X-WR-CALDESC:Veranstaltungen für Weinort Osann-Monzel an der Mosel
BEGIN:VEVENT
DTSTART;TZID=Europe/Berlin:20261006T080000
DTEND;TZID=Europe/Berlin:20261006T170000
DTSTAMP:20260422T203003
CREATED:20260107T162259Z
LAST-MODIFIED:20260107T162259Z
UID:7456-1791273600-1791306000@osann-monzel.de
SUMMARY:Usener Kaffee Klatsch
DESCRIPTION:
URL:https://osann-monzel.de/kalender/usener-kaffee-klatsch-12/
LOCATION:Weinbergstraße 1\, Osann-Monzel
CATEGORIES:Osann-Monzel
END:VEVENT
END:VCALENDAR