﻿BEGIN:VCALENDAR
VERSION:2.0
PRODID:-//Weinort Osann-Monzel an der Mosel - ECPv4.6.11.1//NONSGML v1.0//EN
CALSCALE:GREGORIAN
METHOD:PUBLISH
X-WR-CALNAME:Weinort Osann-Monzel an der Mosel
X-ORIGINAL-URL:https://osann-monzel.de
X-WR-CALDESC:Veranstaltungen für Weinort Osann-Monzel an der Mosel
BEGIN:VEVENT
DTSTART;TZID=Europe/Berlin:20260226T190000
DTEND;TZID=Europe/Berlin:20260226T200000
DTSTAMP:20260422T151626
CREATED:20260107T163555Z
LAST-MODIFIED:20260107T163555Z
UID:7474-1772132400-1772136000@osann-monzel.de
SUMMARY:Treffen der Ortsvereine
DESCRIPTION:
URL:https://osann-monzel.de/kalender/treffen-der-ortsvereine/
LOCATION:Im Eichflur\, Osann-Monzel
CATEGORIES:Gemeinderat,Osann-Monzel
END:VEVENT
END:VCALENDAR