﻿BEGIN:VCALENDAR
VERSION:2.0
PRODID:-//Weinort Osann-Monzel an der Mosel - ECPv4.6.11.1//NONSGML v1.0//EN
CALSCALE:GREGORIAN
METHOD:PUBLISH
X-WR-CALNAME:Weinort Osann-Monzel an der Mosel
X-ORIGINAL-URL:https://osann-monzel.de
X-WR-CALDESC:Veranstaltungen für Weinort Osann-Monzel an der Mosel
BEGIN:VEVENT
DTSTART;TZID=Europe/Berlin:20250330T180000
DTEND;TZID=Europe/Berlin:20250330T203000
DTSTAMP:20260422T221847
CREATED:20241203T110338Z
LAST-MODIFIED:20241205T084451Z
UID:6998-1743357600-1743366600@osann-monzel.de
SUMMARY:Theaterstück: "Schmerz lass nach"
DESCRIPTION:
URL:https://osann-monzel.de/kalender/theaterstueck-2/
LOCATION:Weinbergstraße 1\, Osann-Monzel
CATEGORIES:Gäste,Osann-Monzel
END:VEVENT
END:VCALENDAR