﻿BEGIN:VCALENDAR
VERSION:2.0
PRODID:-//Weinort Osann-Monzel an der Mosel - ECPv4.6.11.1//NONSGML v1.0//EN
CALSCALE:GREGORIAN
METHOD:PUBLISH
X-WR-CALNAME:Weinort Osann-Monzel an der Mosel
X-ORIGINAL-URL:https://osann-monzel.de
X-WR-CALDESC:Veranstaltungen für Weinort Osann-Monzel an der Mosel
BEGIN:VEVENT
DTSTART;TZID=Europe/Berlin:20251114T180000
DTEND;TZID=Europe/Berlin:20251114T200000
DTSTAMP:20260422T222016
CREATED:20241204T153604Z
LAST-MODIFIED:20241204T153604Z
UID:7014-1763143200-1763150400@osann-monzel.de
SUMMARY:St. Martinsumzug
DESCRIPTION:
URL:https://osann-monzel.de/kalender/st-martinsumzug/
LOCATION:54518\, Osann-Monzel
CATEGORIES:Gäste,Osann-Monzel
END:VEVENT
END:VCALENDAR