﻿BEGIN:VCALENDAR
VERSION:2.0
PRODID:-//Weinort Osann-Monzel an der Mosel - ECPv4.6.11.1//NONSGML v1.0//EN
CALSCALE:GREGORIAN
METHOD:PUBLISH
X-WR-CALNAME:Weinort Osann-Monzel an der Mosel
X-ORIGINAL-URL:https://osann-monzel.de
X-WR-CALDESC:Veranstaltungen für Weinort Osann-Monzel an der Mosel
BEGIN:VEVENT
DTSTART;TZID=Europe/Berlin:20260108T190000
DTEND;TZID=Europe/Berlin:20260108T200000
DTSTAMP:20260422T164857
CREATED:20260107T163822Z
LAST-MODIFIED:20260107T163822Z
UID:7476-1767898800-1767902400@osann-monzel.de
SUMMARY:Sitzung Forst/Jagdvorstand
DESCRIPTION:
URL:https://osann-monzel.de/kalender/sitzung-forst-jagdvorstand/
LOCATION:Im Eichflur\, Osann-Monzel
CATEGORIES:Gemeinderat,Osann-Monzel
END:VEVENT
END:VCALENDAR