﻿BEGIN:VCALENDAR
VERSION:2.0
PRODID:-//Weinort Osann-Monzel an der Mosel - ECPv4.6.11.1//NONSGML v1.0//EN
CALSCALE:GREGORIAN
METHOD:PUBLISH
X-WR-CALNAME:Weinort Osann-Monzel an der Mosel
X-ORIGINAL-URL:https://osann-monzel.de
X-WR-CALDESC:Veranstaltungen für Weinort Osann-Monzel an der Mosel
BEGIN:VEVENT
DTSTART;VALUE=DATE:20250628
DTEND;VALUE=DATE:20250701
DTSTAMP:20260423T015959
CREATED:20241204T153250Z
LAST-MODIFIED:20241204T153250Z
UID:7010-1751068800-1751327999@osann-monzel.de
SUMMARY:Osanner Kirmes
DESCRIPTION:
URL:https://osann-monzel.de/kalender/osanner-kirmes-4/
CATEGORIES:Gäste,Osann-Monzel
END:VEVENT
END:VCALENDAR