﻿BEGIN:VCALENDAR
VERSION:2.0
PRODID:-//Weinort Osann-Monzel an der Mosel - ECPv4.6.11.1//NONSGML v1.0//EN
CALSCALE:GREGORIAN
METHOD:PUBLISH
X-WR-CALNAME:Weinort Osann-Monzel an der Mosel
X-ORIGINAL-URL:https://osann-monzel.de
X-WR-CALDESC:Veranstaltungen für Weinort Osann-Monzel an der Mosel
BEGIN:VEVENT
DTSTART;TZID=Europe/Berlin:20240910T190000
DTEND;TZID=Europe/Berlin:20240910T200000
DTSTAMP:20260422T114507
CREATED:20240716T082601Z
LAST-MODIFIED:20240716T082601Z
UID:6797-1725994800-1725998400@osann-monzel.de
SUMMARY:Ortsbürgermeistersprechstunde
DESCRIPTION:
URL:https://osann-monzel.de/kalender/ortsbuergermeistersprechstunde-2/
LOCATION:Im Eichflur\, Osann-Monzel
CATEGORIES:Gemeinderat,Osann-Monzel,Sprechstunde Ortsbürgermeister
END:VEVENT
END:VCALENDAR