﻿BEGIN:VCALENDAR
VERSION:2.0
PRODID:-//Weinort Osann-Monzel an der Mosel - ECPv4.6.11.1//NONSGML v1.0//EN
CALSCALE:GREGORIAN
METHOD:PUBLISH
X-WR-CALNAME:Weinort Osann-Monzel an der Mosel
X-ORIGINAL-URL:https://osann-monzel.de
X-WR-CALDESC:Veranstaltungen für Weinort Osann-Monzel an der Mosel
BEGIN:VEVENT
DTSTART;TZID=Europe/Berlin:20251207T103000
DTEND;TZID=Europe/Berlin:20251207T180000
DTSTAMP:20260422T221719
CREATED:20251024T154503Z
LAST-MODIFIED:20251024T154503Z
UID:7307-1765103400-1765130400@osann-monzel.de
SUMMARY:Nikolausmarkt
DESCRIPTION:
URL:https://osann-monzel.de/kalender/nikolausmarkt-3/
CATEGORIES:Gäste,Osann-Monzel
END:VEVENT
END:VCALENDAR