﻿BEGIN:VCALENDAR
VERSION:2.0
PRODID:-//Weinort Osann-Monzel an der Mosel - ECPv4.6.11.1//NONSGML v1.0//EN
CALSCALE:GREGORIAN
METHOD:PUBLISH
X-WR-CALNAME:Weinort Osann-Monzel an der Mosel
X-ORIGINAL-URL:https://osann-monzel.de
X-WR-CALDESC:Veranstaltungen für Weinort Osann-Monzel an der Mosel
BEGIN:VEVENT
DTSTART;TZID=Europe/Berlin:20250228T183300
DTEND;TZID=Europe/Berlin:20250228T210000
DTSTAMP:20260422T222014
CREATED:20241203T105924Z
LAST-MODIFIED:20241206T074829Z
UID:6994-1740767580-1740776400@osann-monzel.de
SUMMARY:Nachtumzug mit After-Zug-Party
DESCRIPTION:
URL:https://osann-monzel.de/kalender/nachtumzug-mit-after-zug-party/
LOCATION:54518\, Osann-Monzel
END:VEVENT
END:VCALENDAR