﻿BEGIN:VCALENDAR
VERSION:2.0
PRODID:-//Weinort Osann-Monzel an der Mosel - ECPv4.6.11.1//NONSGML v1.0//EN
CALSCALE:GREGORIAN
METHOD:PUBLISH
X-WR-CALNAME:Weinort Osann-Monzel an der Mosel
X-ORIGINAL-URL:https://osann-monzel.de
X-WR-CALDESC:Veranstaltungen für Weinort Osann-Monzel an der Mosel
BEGIN:VEVENT
DTSTART;TZID=Europe/Berlin:20260902T143000
DTEND;TZID=Europe/Berlin:20260902T170000
DTSTAMP:20260422T203121
CREATED:20260107T162102Z
LAST-MODIFIED:20260107T162102Z
UID:7452-1788359400-1788368400@osann-monzel.de
SUMMARY:Mittwochskaffee unter der Linde
DESCRIPTION:
URL:https://osann-monzel.de/kalender/mittwochskaffee-unter-der-linde/
CATEGORIES:Osann-Monzel
END:VEVENT
END:VCALENDAR