﻿BEGIN:VCALENDAR
VERSION:2.0
PRODID:-//Weinort Osann-Monzel an der Mosel - ECPv4.6.11.1//NONSGML v1.0//EN
CALSCALE:GREGORIAN
METHOD:PUBLISH
X-WR-CALNAME:Weinort Osann-Monzel an der Mosel
X-ORIGINAL-URL:https://osann-monzel.de
X-WR-CALDESC:Veranstaltungen für Weinort Osann-Monzel an der Mosel
BEGIN:VEVENT
DTSTART;TZID=Europe/Berlin:20251001T143000
DTEND;TZID=Europe/Berlin:20251001T173000
DTSTAMP:20260423T002126
CREATED:20250128T082114Z
LAST-MODIFIED:20250128T082114Z
UID:7076-1759329000-1759339800@osann-monzel.de
SUMMARY:Mittwochskaffee bei der Linde
DESCRIPTION:
URL:https://osann-monzel.de/kalender/mittwochskaffee-bei-der-linde-9/
CATEGORIES:Gemeinderat,Osann-Monzel
END:VEVENT
END:VCALENDAR