﻿BEGIN:VCALENDAR
VERSION:2.0
PRODID:-//Weinort Osann-Monzel an der Mosel - ECPv4.6.11.1//NONSGML v1.0//EN
CALSCALE:GREGORIAN
METHOD:PUBLISH
X-WR-CALNAME:Weinort Osann-Monzel an der Mosel
X-ORIGINAL-URL:https://osann-monzel.de
X-WR-CALDESC:Veranstaltungen für Weinort Osann-Monzel an der Mosel
BEGIN:VEVENT
DTSTART;TZID=Europe/Berlin:20250604T143000
DTEND;TZID=Europe/Berlin:20250604T173000
DTSTAMP:20260423T015843
CREATED:20250128T081952Z
LAST-MODIFIED:20250128T081952Z
UID:7072-1749047400-1749058200@osann-monzel.de
SUMMARY:Mittwochskaffee bei der Linde
DESCRIPTION:
URL:https://osann-monzel.de/kalender/mittwochskaffee-bei-der-linde-7/
CATEGORIES:Gemeinderat,Osann-Monzel
END:VEVENT
END:VCALENDAR