﻿BEGIN:VCALENDAR
VERSION:2.0
PRODID:-//Weinort Osann-Monzel an der Mosel - ECPv4.6.11.1//NONSGML v1.0//EN
CALSCALE:GREGORIAN
METHOD:PUBLISH
X-WR-CALNAME:Weinort Osann-Monzel an der Mosel
X-ORIGINAL-URL:https://osann-monzel.de
X-WR-CALDESC:Veranstaltungen für Weinort Osann-Monzel an der Mosel
BEGIN:VEVENT
DTSTART;TZID=Europe/Berlin:20250507T143000
DTEND;TZID=Europe/Berlin:20250507T173000
DTSTAMP:20260422T222015
CREATED:20250128T081847Z
LAST-MODIFIED:20250128T081847Z
UID:7070-1746628200-1746639000@osann-monzel.de
SUMMARY:Mittwochskaffee bei der Linde
DESCRIPTION:
URL:https://osann-monzel.de/kalender/mittwochskaffee-bei-der-linde-6/
CATEGORIES:Gemeinderat,Osann-Monzel
END:VEVENT
END:VCALENDAR