﻿BEGIN:VCALENDAR
VERSION:2.0
PRODID:-//Weinort Osann-Monzel an der Mosel - ECPv4.6.11.1//NONSGML v1.0//EN
CALSCALE:GREGORIAN
METHOD:PUBLISH
X-WR-CALNAME:Weinort Osann-Monzel an der Mosel
X-ORIGINAL-URL:https://osann-monzel.de
X-WR-CALDESC:Veranstaltungen für Weinort Osann-Monzel an der Mosel
BEGIN:VEVENT
DTSTART;TZID=Europe/Berlin:20241002T143000
DTEND;TZID=Europe/Berlin:20241002T170000
DTSTAMP:20260422T114638
CREATED:20240717T152626Z
LAST-MODIFIED:20240827T063400Z
UID:6824-1727879400-1727888400@osann-monzel.de
SUMMARY:Mittwochskaffee bei der Linde
DESCRIPTION:
URL:https://osann-monzel.de/kalender/mittwochskaffee-bei-der-linde-2/
CATEGORIES:Osann-Monzel
END:VEVENT
END:VCALENDAR