﻿BEGIN:VCALENDAR
VERSION:2.0
PRODID:-//Weinort Osann-Monzel an der Mosel - ECPv4.6.11.1//NONSGML v1.0//EN
CALSCALE:GREGORIAN
METHOD:PUBLISH
X-WR-CALNAME:Weinort Osann-Monzel an der Mosel
X-ORIGINAL-URL:https://osann-monzel.de
X-WR-CALDESC:Veranstaltungen für Weinort Osann-Monzel an der Mosel
BEGIN:VEVENT
DTSTART;TZID=Europe/Berlin:20241108T180000
DTEND;TZID=Europe/Berlin:20241108T200000
DTSTAMP:20260422T151553
CREATED:20240925T130741Z
LAST-MODIFIED:20240925T130853Z
UID:6919-1731088800-1731096000@osann-monzel.de
SUMMARY:Martinsumzug
DESCRIPTION:
URL:https://osann-monzel.de/kalender/martinsumzug/
LOCATION:54518\, Osann-Monzel
CATEGORIES:Gäste,Osann-Monzel
END:VEVENT
END:VCALENDAR