﻿BEGIN:VCALENDAR
VERSION:2.0
PRODID:-//Weinort Osann-Monzel an der Mosel - ECPv4.6.11.1//NONSGML v1.0//EN
CALSCALE:GREGORIAN
METHOD:PUBLISH
X-WR-CALNAME:Weinort Osann-Monzel an der Mosel
X-ORIGINAL-URL:https://osann-monzel.de
X-WR-CALDESC:Veranstaltungen für Weinort Osann-Monzel an der Mosel
BEGIN:VEVENT
DTSTART;VALUE=DATE:20260430
DTEND;VALUE=DATE:20260502
DTSTAMP:20260422T132541
CREATED:20260114T141807Z
LAST-MODIFIED:20260114T141807Z
UID:7494-1777507200-1777679999@osann-monzel.de
SUMMARY:Maifest der Feuerwehr
DESCRIPTION:
URL:https://osann-monzel.de/kalender/maifest-der-feuerwehr/
CATEGORIES:Gäste,Osann-Monzel
END:VEVENT
END:VCALENDAR