﻿BEGIN:VCALENDAR
VERSION:2.0
PRODID:-//Weinort Osann-Monzel an der Mosel - ECPv4.6.11.1//NONSGML v1.0//EN
CALSCALE:GREGORIAN
METHOD:PUBLISH
X-WR-CALNAME:Weinort Osann-Monzel an der Mosel
X-ORIGINAL-URL:https://osann-monzel.de
X-WR-CALDESC:Veranstaltungen für Weinort Osann-Monzel an der Mosel
BEGIN:VEVENT
DTSTART;VALUE=DATE:20250430
DTEND;VALUE=DATE:20250502
DTSTAMP:20260423T002015
CREATED:20241203T110937Z
LAST-MODIFIED:20241203T110957Z
UID:7006-1745971200-1746143999@osann-monzel.de
SUMMARY:Maifest der Feuerwehr mit Jubiläum 10 Jahre Bambini Feuerwehr
DESCRIPTION:
URL:https://osann-monzel.de/kalender/maifest-der-feuerwehr-mit-jubilaeum-10-jahre-bambini-feuerwehr/
CATEGORIES:Gäste,Osann-Monzel
END:VEVENT
END:VCALENDAR