﻿BEGIN:VCALENDAR
VERSION:2.0
PRODID:-//Weinort Osann-Monzel an der Mosel - ECPv4.6.11.1//NONSGML v1.0//EN
CALSCALE:GREGORIAN
METHOD:PUBLISH
X-WR-CALNAME:Weinort Osann-Monzel an der Mosel
X-ORIGINAL-URL:https://osann-monzel.de
X-WR-CALDESC:Veranstaltungen für Weinort Osann-Monzel an der Mosel
BEGIN:VEVENT
DTSTART;TZID=Europe/Berlin:20260322T080000
DTEND;TZID=Europe/Berlin:20260322T180000
DTSTAMP:20260422T150918
CREATED:20260106T100739Z
LAST-MODIFIED:20260106T100739Z
UID:7408-1774166400-1774202400@osann-monzel.de
SUMMARY:Landtagswahlen
DESCRIPTION:
URL:https://osann-monzel.de/kalender/landtagswahlen/
LOCATION:Im Eichflur\, Osann-Monzel
CATEGORIES:Osann-Monzel
END:VEVENT
END:VCALENDAR