﻿BEGIN:VCALENDAR
VERSION:2.0
PRODID:-//Weinort Osann-Monzel an der Mosel - ECPv4.6.11.1//NONSGML v1.0//EN
CALSCALE:GREGORIAN
METHOD:PUBLISH
X-WR-CALNAME:Weinort Osann-Monzel an der Mosel
X-ORIGINAL-URL:https://osann-monzel.de
X-WR-CALDESC:Veranstaltungen für Weinort Osann-Monzel an der Mosel
BEGIN:VEVENT
DTSTART;TZID=Europe/Berlin:20250216T133300
DTEND;TZID=Europe/Berlin:20250216T180000
DTSTAMP:20260422T170113
CREATED:20241203T105307Z
LAST-MODIFIED:20241206T075019Z
UID:6986-1739712780-1739728800@osann-monzel.de
SUMMARY:Kinderkappensitzung
DESCRIPTION:
URL:https://osann-monzel.de/kalender/kinderkappensitzung-3/
CATEGORIES:Gäste,Osann-Monzel
END:VEVENT
END:VCALENDAR