﻿BEGIN:VCALENDAR
VERSION:2.0
PRODID:-//Weinort Osann-Monzel an der Mosel - ECPv4.6.11.1//NONSGML v1.0//EN
CALSCALE:GREGORIAN
METHOD:PUBLISH
X-WR-CALNAME:Weinort Osann-Monzel an der Mosel
X-ORIGINAL-URL:https://osann-monzel.de
X-WR-CALDESC:Veranstaltungen für Weinort Osann-Monzel an der Mosel
BEGIN:VEVENT
DTSTART;TZID=Europe/Berlin:20250309T130000
DTEND;TZID=Europe/Berlin:20250309T160000
DTSTAMP:20260422T165933
CREATED:20250117T082836Z
LAST-MODIFIED:20250117T082836Z
UID:7046-1741525200-1741536000@osann-monzel.de
SUMMARY:Kartenvorverkauf Theater
DESCRIPTION:
URL:https://osann-monzel.de/kalender/kartenvorverkauf-theater/
LOCATION:Im Eichflur\, Osann-Monzel
CATEGORIES:Gäste,Osann-Monzel
END:VEVENT
END:VCALENDAR