﻿BEGIN:VCALENDAR
VERSION:2.0
PRODID:-//Weinort Osann-Monzel an der Mosel - ECPv4.6.11.1//NONSGML v1.0//EN
CALSCALE:GREGORIAN
METHOD:PUBLISH
X-WR-CALNAME:Weinort Osann-Monzel an der Mosel
X-ORIGINAL-URL:https://osann-monzel.de
X-WR-CALDESC:Veranstaltungen für Weinort Osann-Monzel an der Mosel
BEGIN:VEVENT
DTSTART;TZID=Europe/Berlin:20241106T183000
DTEND;TZID=Europe/Berlin:20241106T210000
DTSTAMP:20260422T151459
CREATED:20240805T075747Z
LAST-MODIFIED:20240805T075747Z
UID:6862-1730917800-1730926800@osann-monzel.de
SUMMARY:Gemeinderatssitzung 05
DESCRIPTION:
URL:https://osann-monzel.de/kalender/gemeinderatssitzung-05/
LOCATION:Im Eichflur\, Osann-Monzel
CATEGORIES:Gemeinderat,Osann-Monzel
END:VEVENT
END:VCALENDAR