﻿BEGIN:VCALENDAR
VERSION:2.0
PRODID:-//Weinort Osann-Monzel an der Mosel - ECPv4.6.11.1//NONSGML v1.0//EN
CALSCALE:GREGORIAN
METHOD:PUBLISH
X-WR-CALNAME:Weinort Osann-Monzel an der Mosel
X-ORIGINAL-URL:https://osann-monzel.de
X-WR-CALDESC:Veranstaltungen für Weinort Osann-Monzel an der Mosel
BEGIN:VEVENT
DTSTART;VALUE=DATE:20260823
DTEND;VALUE=DATE:20260824
DTSTAMP:20260424T083458
CREATED:20260319T093558Z
LAST-MODIFIED:20260319T093558Z
UID:7574-1787443200-1787529599@osann-monzel.de
SUMMARY:Familientag beim KVO
DESCRIPTION:Alle auch nicht Mitglieder sind herzlich zum Familientag des Karnevalsverein Oestelbachlerchen eingeladen. Dieser findeet aor der Oestelbachhale und auf der angrenzenden Festwiese statt. \n
URL:https://osann-monzel.de/kalender/familientag-beim-kvo/
CATEGORIES:Gäste,Osann-Monzel
END:VEVENT
END:VCALENDAR