﻿BEGIN:VCALENDAR
VERSION:2.0
PRODID:-//Weinort Osann-Monzel an der Mosel - ECPv4.6.11.1//NONSGML v1.0//EN
CALSCALE:GREGORIAN
METHOD:PUBLISH
X-WR-CALNAME:Weinort Osann-Monzel an der Mosel
X-ORIGINAL-URL:https://osann-monzel.de
X-WR-CALDESC:Veranstaltungen für Weinort Osann-Monzel an der Mosel
BEGIN:VEVENT
DTSTART;TZID=Europe/Berlin:20260212T103300
DTEND;TZID=Europe/Berlin:20260212T170000
DTSTAMP:20260422T164850
CREATED:20260105T093727Z
LAST-MODIFIED:20260105T093727Z
UID:7369-1770892380-1770915600@osann-monzel.de
SUMMARY:Erbsensuppeessen Weiberdonnerstag
DESCRIPTION:
URL:https://osann-monzel.de/kalender/erbsensuppeessen-weiberdonnerstag/
LOCATION:Im Eichflur\, Osann-Monzel
CATEGORIES:Gäste,Osann-Monzel
END:VEVENT
END:VCALENDAR