﻿BEGIN:VCALENDAR
VERSION:2.0
PRODID:-//Weinort Osann-Monzel an der Mosel - ECPv4.6.11.1//NONSGML v1.0//EN
CALSCALE:GREGORIAN
METHOD:PUBLISH
X-WR-CALNAME:Weinort Osann-Monzel an der Mosel
X-ORIGINAL-URL:https://osann-monzel.de
X-WR-CALDESC:Veranstaltungen für Weinort Osann-Monzel an der Mosel
BEGIN:VEVENT
DTSTART;TZID=Europe/Berlin:20260214T183000
DTEND;TZID=Europe/Berlin:20260214T233000
DTSTAMP:20260422T165300
CREATED:20260115T073953Z
LAST-MODIFIED:20260115T073953Z
UID:7503-1771093800-1771111800@osann-monzel.de
SUMMARY:Bunter Abend
DESCRIPTION:
URL:https://osann-monzel.de/kalender/bunter-abend/
CATEGORIES:Gäste,Osann-Monzel
END:VEVENT
END:VCALENDAR