﻿BEGIN:VCALENDAR
VERSION:2.0
PRODID:-//Weinort Osann-Monzel an der Mosel - ECPv4.6.11.1//NONSGML v1.0//EN
CALSCALE:GREGORIAN
METHOD:PUBLISH
X-WR-CALNAME:Weinort Osann-Monzel an der Mosel
X-ORIGINAL-URL:https://osann-monzel.de
X-WR-CALDESC:Veranstaltungen für Weinort Osann-Monzel an der Mosel
BEGIN:VEVENT
DTSTART;TZID=Europe/Berlin:20250306T190000
DTEND;TZID=Europe/Berlin:20250306T200000
DTSTAMP:20260422T203905
CREATED:20250318T110030Z
LAST-MODIFIED:20250318T110030Z
UID:7155-1741287600-1741291200@osann-monzel.de
SUMMARY:Bürgermeistersprechstunde
DESCRIPTION:
URL:https://osann-monzel.de/kalender/buergermeistersprechstunde-4/
LOCATION:Im Eichflur\, Osann-Monzel
CATEGORIES:Gemeinderat,Osann-Monzel,Sprechstunde Ortsbürgermeister
END:VEVENT
END:VCALENDAR