﻿BEGIN:VCALENDAR
VERSION:2.0
PRODID:-//Weinort Osann-Monzel an der Mosel - ECPv4.6.11.1//NONSGML v1.0//EN
CALSCALE:GREGORIAN
METHOD:PUBLISH
X-WR-CALNAME:Weinort Osann-Monzel an der Mosel
X-ORIGINAL-URL:https://osann-monzel.de
X-WR-CALDESC:Veranstaltungen für Weinort Osann-Monzel an der Mosel
BEGIN:VEVENT
DTSTART;TZID=Europe/Berlin:20250506T190000
DTEND;TZID=Europe/Berlin:20250506T200000
DTSTAMP:20260422T203828
CREATED:20250318T105922Z
LAST-MODIFIED:20250318T105922Z
UID:7153-1746558000-1746561600@osann-monzel.de
SUMMARY:Bürgermeistersprechstunde
DESCRIPTION:
URL:https://osann-monzel.de/kalender/buergermeistersprechstunde-3/
LOCATION:Im Eichflur\, Osann-Monzel
CATEGORIES:Gemeinderat,Osann-Monzel,Sprechstunde Ortsbürgermeister
END:VEVENT
END:VCALENDAR