﻿BEGIN:VCALENDAR
VERSION:2.0
PRODID:-//Weinort Osann-Monzel an der Mosel - ECPv4.6.11.1//NONSGML v1.0//EN
CALSCALE:GREGORIAN
METHOD:PUBLISH
X-WR-CALNAME:Weinort Osann-Monzel an der Mosel
X-ORIGINAL-URL:https://osann-monzel.de
X-WR-CALDESC:Veranstaltungen für Weinort Osann-Monzel an der Mosel
BEGIN:VEVENT
DTSTART;TZID=Europe/Berlin:20261209T163000
DTEND;TZID=Europe/Berlin:20261209T210000
DTSTAMP:20260422T184526
CREATED:20260107T163349Z
LAST-MODIFIED:20260107T163349Z
UID:7472-1796833800-1796850000@osann-monzel.de
SUMMARY:Blutspende
DESCRIPTION:
URL:https://osann-monzel.de/kalender/blutspende-7/
LOCATION:Weinbergstraße 1\, Osann-Monzel
CATEGORIES:Blutspende,Osann-Monzel
END:VEVENT
END:VCALENDAR