﻿BEGIN:VCALENDAR
VERSION:2.0
PRODID:-//Weinort Osann-Monzel an der Mosel - ECPv4.6.11.1//NONSGML v1.0//EN
CALSCALE:GREGORIAN
METHOD:PUBLISH
X-WR-CALNAME:Weinort Osann-Monzel an der Mosel
X-ORIGINAL-URL:https://osann-monzel.de
X-WR-CALDESC:Veranstaltungen für Weinort Osann-Monzel an der Mosel
BEGIN:VEVENT
DTSTART;TZID=Europe/Berlin:20250507T163000
DTEND;TZID=Europe/Berlin:20250507T210000
DTSTAMP:20260422T221720
CREATED:20250318T104718Z
LAST-MODIFIED:20250318T104718Z
UID:7139-1746635400-1746651600@osann-monzel.de
SUMMARY:Blutspende
DESCRIPTION:
URL:https://osann-monzel.de/kalender/blutspende-5/
LOCATION:Weinbergstraße 1\, Osann-Monzel
CATEGORIES:Blutspende,Gäste,Osann-Monzel
END:VEVENT
END:VCALENDAR