﻿BEGIN:VCALENDAR
VERSION:2.0
PRODID:-//Weinort Osann-Monzel an der Mosel - ECPv4.6.11.1//NONSGML v1.0//EN
CALSCALE:GREGORIAN
METHOD:PUBLISH
X-WR-CALNAME:Weinort Osann-Monzel an der Mosel
X-ORIGINAL-URL:https://osann-monzel.de
X-WR-CALDESC:Veranstaltungen für Weinort Osann-Monzel an der Mosel
BEGIN:VEVENT
DTSTART;TZID=Europe/Berlin:20241211T170000
DTEND;TZID=Europe/Berlin:20241211T200000
DTSTAMP:20260422T132949
CREATED:20231213T142022Z
LAST-MODIFIED:20231213T142022Z
UID:6521-1733936400-1733947200@osann-monzel.de
SUMMARY:Blutspende
DESCRIPTION:
URL:https://osann-monzel.de/kalender/blutspende-10/
LOCATION:Weinbergstraße 1\, Osann-Monzel
CATEGORIES:Blutspende,Gäste,Osann-Monzel
END:VEVENT
END:VCALENDAR