﻿BEGIN:VCALENDAR
VERSION:2.0
PRODID:-//Weinort Osann-Monzel an der Mosel - ECPv4.6.11.1//NONSGML v1.0//EN
CALSCALE:GREGORIAN
METHOD:PUBLISH
X-WR-CALNAME:Weinort Osann-Monzel an der Mosel
X-ORIGINAL-URL:https://osann-monzel.de
X-WR-CALDESC:Veranstaltungen für Weinort Osann-Monzel an der Mosel
BEGIN:VEVENT
DTSTART;TZID=Europe/Berlin:20250423T133000
DTEND;TZID=Europe/Berlin:20250423T160000
DTSTAMP:20260423T002015
CREATED:20250415T065013Z
LAST-MODIFIED:20250415T065013Z
UID:7183-1745415000-1745424000@osann-monzel.de
SUMMARY:Besuch der Kokosweberei und Clara-Viebig-Zentrum in Eisenschmitt
DESCRIPTION: \n
URL:https://osann-monzel.de/kalender/besuch-der-kokosweberei-und-clara-viebig-zentrum-in-eisenschmitt/
CATEGORIES:Gäste,Osann-Monzel
ATTACH;FMTTYPE=image/jpeg:https://osann-monzel.de/wp-content/uploads/2025/04/IMG_5995.jpeg
END:VEVENT
END:VCALENDAR