﻿BEGIN:VCALENDAR
VERSION:2.0
PRODID:-//Weinort Osann-Monzel an der Mosel - ECPv4.6.11.1//NONSGML v1.0//EN
CALSCALE:GREGORIAN
METHOD:PUBLISH
X-WR-CALNAME:Weinort Osann-Monzel an der Mosel
X-ORIGINAL-URL:https://osann-monzel.de
X-WR-CALDESC:Veranstaltungen für Weinort Osann-Monzel an der Mosel
BEGIN:VEVENT
DTSTART;TZID=Europe/Berlin:20260409T193000
DTEND;TZID=Europe/Berlin:20260409T203000
DTSTAMP:20260422T132501
CREATED:20260107T160512Z
LAST-MODIFIED:20260107T160512Z
UID:7433-1775763000-1775766600@osann-monzel.de
SUMMARY:Ausschusssitzung TWKG
DESCRIPTION:
URL:https://osann-monzel.de/kalender/ausschusssitzung-twkg-2/
LOCATION:Im Eichflur\, Osann-Monzel
CATEGORIES:Gemeinderat,Osann-Monzel
END:VEVENT
END:VCALENDAR