﻿BEGIN:VCALENDAR
VERSION:2.0
PRODID:-//Weinort Osann-Monzel an der Mosel - ECPv4.6.11.1//NONSGML v1.0//EN
CALSCALE:GREGORIAN
METHOD:PUBLISH
X-WR-CALNAME:Weinort Osann-Monzel an der Mosel
X-ORIGINAL-URL:https://osann-monzel.de
X-WR-CALDESC:Veranstaltungen für Weinort Osann-Monzel an der Mosel
BEGIN:VEVENT
DTSTART;TZID=Europe/Berlin:20241222T180000
DTEND;TZID=Europe/Berlin:20241222T200000
DTSTAMP:20260422T133030
CREATED:20231205T074855Z
LAST-MODIFIED:20231205T074855Z
UID:6506-1734890400-1734897600@osann-monzel.de
SUMMARY:Adventsspielen
DESCRIPTION:
URL:https://osann-monzel.de/kalender/adventsspielen/
CATEGORIES:Gäste,Osann-Monzel
END:VEVENT
END:VCALENDAR