﻿BEGIN:VCALENDAR
VERSION:2.0
PRODID:-//Weinort Osann-Monzel an der Mosel - ECPv4.6.11.1//NONSGML v1.0//EN
CALSCALE:GREGORIAN
METHOD:PUBLISH
X-WR-CALNAME:Weinort Osann-Monzel an der Mosel
X-ORIGINAL-URL:https://osann-monzel.de
X-WR-CALDESC:Veranstaltungen für Weinort Osann-Monzel an der Mosel
BEGIN:VEVENT
DTSTART;TZID=Europe/Berlin:20260222T130000
DTEND;TZID=Europe/Berlin:20260222T150000
DTSTAMP:20260422T165512
CREATED:20260105T095610Z
LAST-MODIFIED:20260105T100527Z
UID:7384-1771765200-1771772400@osann-monzel.de
SUMMARY:Kartenvorverkauf Theater
DESCRIPTION:
URL:https://osann-monzel.de/kalender/4-theaterauffuehrung/
LOCATION:Im Eichflur\, Osann-Monzel
CATEGORIES:Gäste,Osann-Monzel
END:VEVENT
END:VCALENDAR