﻿BEGIN:VCALENDAR
VERSION:2.0
PRODID:-//Weinort Osann-Monzel an der Mosel - ECPv4.6.11.1//NONSGML v1.0//EN
CALSCALE:GREGORIAN
METHOD:PUBLISH
X-WR-CALNAME:Weinort Osann-Monzel an der Mosel
X-ORIGINAL-URL:https://osann-monzel.de
X-WR-CALDESC:Veranstaltungen für Weinort Osann-Monzel an der Mosel
BEGIN:VEVENT
DTSTART;TZID=Europe/Berlin:20260327T200000
DTEND;TZID=Europe/Berlin:20260327T223000
DTSTAMP:20260422T151048
CREATED:20260106T093411Z
LAST-MODIFIED:20260106T093411Z
UID:7391-1774641600-1774650600@osann-monzel.de
SUMMARY:4. Theateraufführung " Pension Hollywood"
DESCRIPTION:
URL:https://osann-monzel.de/kalender/4-theaterauffuehrung-pension-hollywood/
LOCATION:Weinbergstraße 1\, Osann-Monzel
CATEGORIES:Gäste,Osann-Monzel
END:VEVENT
END:VCALENDAR