﻿BEGIN:VCALENDAR
VERSION:2.0
PRODID:-//Weinort Osann-Monzel an der Mosel - ECPv4.6.11.1//NONSGML v1.0//EN
CALSCALE:GREGORIAN
METHOD:PUBLISH
X-WR-CALNAME:Weinort Osann-Monzel an der Mosel
X-ORIGINAL-URL:https://osann-monzel.de
X-WR-CALDESC:Veranstaltungen für Weinort Osann-Monzel an der Mosel
BEGIN:VEVENT
DTSTART;TZID=Europe/Berlin:20260322T180000
DTEND;TZID=Europe/Berlin:20260322T213000
DTSTAMP:20260422T151626
CREATED:20260105T095524Z
LAST-MODIFIED:20260105T101122Z
UID:7382-1774202400-1774215000@osann-monzel.de
SUMMARY:3. Theateraufführung "Pension Hollywood"
DESCRIPTION:
URL:https://osann-monzel.de/kalender/3-theaterauffuehrung/
LOCATION:Weinbergstraße 1\, Osann-Monzel
CATEGORIES:Gäste,Osann-Monzel
END:VEVENT
END:VCALENDAR