﻿BEGIN:VCALENDAR
VERSION:2.0
PRODID:-//Weinort Osann-Monzel an der Mosel - ECPv4.6.11.1//NONSGML v1.0//EN
CALSCALE:GREGORIAN
METHOD:PUBLISH
X-WR-CALNAME:Weinort Osann-Monzel an der Mosel
X-ORIGINAL-URL:https://osann-monzel.de
X-WR-CALDESC:Veranstaltungen für Weinort Osann-Monzel an der Mosel
BEGIN:VEVENT
DTSTART;TZID=Europe/Berlin:20260910T080000
DTEND;TZID=Europe/Berlin:20260910T170000
DTSTAMP:20260422T221718
CREATED:20260107T162157Z
LAST-MODIFIED:20260107T162157Z
UID:7454-1789027200-1789059600@osann-monzel.de
SUMMARY:20. Gemeinderatssitzung
DESCRIPTION:
URL:https://osann-monzel.de/kalender/20-gemeinderatssitzung/
LOCATION:Im Eichflur\, Osann-Monzel
CATEGORIES:Gemeinderat,Osann-Monzel
END:VEVENT
END:VCALENDAR