﻿BEGIN:VCALENDAR
VERSION:2.0
PRODID:-//Weinort Osann-Monzel an der Mosel - ECPv4.6.11.1//NONSGML v1.0//EN
CALSCALE:GREGORIAN
METHOD:PUBLISH
X-WR-CALNAME:Weinort Osann-Monzel an der Mosel
X-ORIGINAL-URL:https://osann-monzel.de
X-WR-CALDESC:Veranstaltungen für Weinort Osann-Monzel an der Mosel
BEGIN:VEVENT
DTSTART;TZID=Europe/Berlin:20260708T183000
DTEND;TZID=Europe/Berlin:20260708T210000
DTSTAMP:20260422T164730
CREATED:20260107T161125Z
LAST-MODIFIED:20260107T161125Z
UID:7443-1783535400-1783544400@osann-monzel.de
SUMMARY:18. Gemeinderatssitzung
DESCRIPTION:
URL:https://osann-monzel.de/kalender/18-gemeinderatssitzung/
LOCATION:Im Eichflur\, Osann-Monzel
CATEGORIES:Gemeinderat,Osann-Monzel
END:VEVENT
END:VCALENDAR