﻿BEGIN:VCALENDAR
VERSION:2.0
PRODID:-//Weinort Osann-Monzel an der Mosel - ECPv4.6.11.1//NONSGML v1.0//EN
CALSCALE:GREGORIAN
METHOD:PUBLISH
X-WR-CALNAME:Weinort Osann-Monzel an der Mosel
X-ORIGINAL-URL:https://osann-monzel.de
X-WR-CALDESC:Veranstaltungen für Weinort Osann-Monzel an der Mosel
BEGIN:VEVENT
DTSTART;TZID=Europe/Berlin:20260204T183000
DTEND;TZID=Europe/Berlin:20260204T203000
DTSTAMP:20260422T150835
CREATED:20260114T142513Z
LAST-MODIFIED:20260120T073845Z
UID:7496-1770229800-1770237000@osann-monzel.de
SUMMARY:14. Gemeinderatssitzung
DESCRIPTION:
URL:https://osann-monzel.de/kalender/14-gemeinderatssitzung/
CATEGORIES:Gemeinderat,Osann-Monzel
END:VEVENT
END:VCALENDAR