﻿BEGIN:VCALENDAR
VERSION:2.0
PRODID:-//Weinort Osann-Monzel an der Mosel - ECPv4.6.11.1//NONSGML v1.0//EN
CALSCALE:GREGORIAN
METHOD:PUBLISH
X-WR-CALNAME:Weinort Osann-Monzel an der Mosel
X-ORIGINAL-URL:https://osann-monzel.de
X-WR-CALDESC:Veranstaltungen für Weinort Osann-Monzel an der Mosel
BEGIN:VEVENT
DTSTART;TZID=Europe/Berlin:20251112T183000
DTEND;TZID=Europe/Berlin:20251112T203000
DTSTAMP:20260422T221805
CREATED:20250318T110753Z
LAST-MODIFIED:20250318T110753Z
UID:7163-1762972200-1762979400@osann-monzel.de
SUMMARY:12. Gemeinderatssitzung
DESCRIPTION:
URL:https://osann-monzel.de/kalender/12-gemeinderatssitzung/
LOCATION:Im Eichflur\, Osann-Monzel
CATEGORIES:Gemeinderat,Osann-Monzel
END:VEVENT
END:VCALENDAR