﻿BEGIN:VCALENDAR
VERSION:2.0
PRODID:-//Weinort Osann-Monzel an der Mosel - ECPv4.6.11.1//NONSGML v1.0//EN
CALSCALE:GREGORIAN
METHOD:PUBLISH
X-WR-CALNAME:Weinort Osann-Monzel an der Mosel
X-ORIGINAL-URL:https://osann-monzel.de
X-WR-CALDESC:Veranstaltungen für Weinort Osann-Monzel an der Mosel
BEGIN:VEVENT
DTSTART;TZID=Europe/Berlin:20260314T200000
DTEND;TZID=Europe/Berlin:20260314T223000
DTSTAMP:20260422T151005
CREATED:20260105T094541Z
LAST-MODIFIED:20260105T100600Z
UID:7378-1773518400-1773527400@osann-monzel.de
SUMMARY:1. Theateraufführung "Pension Hollywood"
DESCRIPTION:
URL:https://osann-monzel.de/kalender/1-theaterauffuehrung/
LOCATION:Weinbergstraße 1\, Osann-Monzel
CATEGORIES:Gäste,Osann-Monzel
END:VEVENT
END:VCALENDAR